BEGIN:VCALENDAR
VERSION:2.0
PRODID:-//Sabre//Sabre VObject 4.5.1//EN
CALSCALE:GREGORIAN
BEGIN:VEVENT
UID:sabre-vobject-6d676384-98a2-45ab-b136-7277c5df3e88
DTSTAMP;TZID=Europe/Berlin:20260423T130000
SUMMARY:Speiseplan unserer Cafeteria\\n\\nMenü 1: Gemüsegulasch mit Kidne
 ybohnen\, Wurzelgemüse\, grüne Bohnen und Tomate(i) dazu Vollkornreis un
 d Kräuter Schmand(g)\\nMenü 2: Käse-Lauchsuppe(g) mit Vollkornbrot(aw)\
 ,(ar)\,(ag)\, dazu Kichererbsen-Karottensalat\\n
DTSTART;TZID=Europe/Berlin:20260423T130000
END:VEVENT
BEGIN:VEVENT
UID:sabre-vobject-5bd2618e-3ea1-4c10-b24c-4c67a6656eb5
DTSTAMP;TZID=Europe/Berlin:20260424T130000
SUMMARY:Speiseplan unserer Cafeteria\\n\\nMenü 1: kross gebratene Schupfnu
 deln(aw\,c) mit dunkler Rahmsauce(i\,g) und Karottengemüse\\nMenü 2: See
 lachs Nuggets(F)\,(aw)\,(c)\,(g)\,(j) mit Gurkensalat(j)\, Ofenkartoffeln 
 und Schnittlauchquark(g)\\n
DTSTART;TZID=Europe/Berlin:20260424T130000
END:VEVENT
BEGIN:VEVENT
UID:sabre-vobject-5a531205-a82d-4332-a6a5-751a07b18719
DTSTAMP;TZID=Europe/Berlin:20260427T130000
SUMMARY:Speiseplan unserer Cafeteria\\n\\nMenü 1: Vollkorn-Penne(aw) mit T
 omaten-Gemüsesoße(i) und geriebenem Käse(g)\\nMenü 2: Brokkoli-Käse-S
 uppe mit Gemüsewürfel(g) und Vollkornbrot(aw)\,(ar)\,(ag)\\n
DTSTART;TZID=Europe/Berlin:20260427T130000
END:VEVENT
BEGIN:VEVENT
UID:sabre-vobject-4bfcb663-98b3-476c-a8ee-32a51842b9ee
DTSTAMP;TZID=Europe/Berlin:20260428T130000
SUMMARY:Speiseplan unserer Cafeteria\\n\\nMenü 1: herzhaftes Rührei(c)\,(
 g) mit Salzkartoffeln und Rahmspinat(g)\\nMenü 2: Gnocchi(aw)\,(c) mit Ch
 ampignon-Kräutersoße(g)\,(i)\\n
DTSTART;TZID=Europe/Berlin:20260428T130000
END:VEVENT
BEGIN:VEVENT
UID:sabre-vobject-935e0573-376f-46e1-b4ff-7f9547006de5
DTSTAMP;TZID=Europe/Berlin:20260429T130000
SUMMARY:Speiseplan unserer Cafeteria\\n\\nMenü 1: Prüfungen!\nKeine Essen
 versorgung\\n
DTSTART;TZID=Europe/Berlin:20260429T130000
END:VEVENT
BEGIN:VEVENT
UID:sabre-vobject-22288402-e8cc-4a45-8822-0e01cd5ad7c3
DTSTAMP;TZID=Europe/Berlin:20260430T130000
SUMMARY:Speiseplan unserer Cafeteria\\n\\nMenü 1: cremiger Milchreis(g) mi
 t heißen Kirschen dazu eine Kürbis-Orangen-Suppe(g)\\nMenü 2: Kartoffel
 -Kürbispfanne mit Birne und Hirtenkäse(g) dazu Saure-Sahne-Dip(g)\\n
DTSTART;TZID=Europe/Berlin:20260430T130000
END:VEVENT
END:VCALENDAR
